BEGIN:VCALENDAR
VERSION:2.0
PRODID:-//Rabenau in Sachsen - ECPv6.15.20//NONSGML v1.0//EN
CALSCALE:GREGORIAN
METHOD:PUBLISH
X-WR-CALNAME:Rabenau in Sachsen
X-ORIGINAL-URL:https://rabenau.net
X-WR-CALDESC:Veranstaltungen für Rabenau in Sachsen
REFRESH-INTERVAL;VALUE=DURATION:PT1H
X-Robots-Tag:noindex
X-PUBLISHED-TTL:PT1H
BEGIN:VTIMEZONE
TZID:Europe/Berlin
BEGIN:DAYLIGHT
TZOFFSETFROM:+0100
TZOFFSETTO:+0200
TZNAME:CEST
DTSTART:20250330T010000
END:DAYLIGHT
BEGIN:STANDARD
TZOFFSETFROM:+0200
TZOFFSETTO:+0100
TZNAME:CET
DTSTART:20251026T010000
END:STANDARD
BEGIN:DAYLIGHT
TZOFFSETFROM:+0100
TZOFFSETTO:+0200
TZNAME:CEST
DTSTART:20260329T010000
END:DAYLIGHT
BEGIN:STANDARD
TZOFFSETFROM:+0200
TZOFFSETTO:+0100
TZNAME:CET
DTSTART:20261025T010000
END:STANDARD
BEGIN:DAYLIGHT
TZOFFSETFROM:+0100
TZOFFSETTO:+0200
TZNAME:CEST
DTSTART:20270328T010000
END:DAYLIGHT
BEGIN:STANDARD
TZOFFSETFROM:+0200
TZOFFSETTO:+0100
TZNAME:CET
DTSTART:20271031T010000
END:STANDARD
END:VTIMEZONE
BEGIN:VEVENT
DTSTART;TZID=Europe/Berlin:20260423T103000
DTEND;TZID=Europe/Berlin:20260423T120000
DTSTAMP:20260423T025427
CREATED:20260316T090717Z
LAST-MODIFIED:20260420T093459Z
UID:10951-1776940200-1776945600@rabenau.net
SUMMARY:Spaziergang in Gesellschaft für Senioren
DESCRIPTION:Liebe Junggebliebene\, \nich lade Sie herzlich zu einem "Spaziergang in Gesellschaft für Senioren" ein. Unser Ziel ist der Götzenbusch in Oelsa. Die Dauer ca. 1\,5 Stunden. \nTreffzeit: 10:30 Uhr\nTreffpunkt: Parkplatz "Zum Götzenbusch" / Ecke Seifersdorfer Str. \n 
URL:https://rabenau.net/veranstaltung/spaziergang-in-gesellschaft-fuer-senioren/
LOCATION:Parkplatz “Zum Götzenbusch” / Ecke Seifersdorfer Str.\, Seifersdorfer Str. / Ecke Fahrradweg "Zum Götzenbusch"\, Rabenau OT Oelsa\, Sa\, 01734\, Germany
ATTACH;FMTTYPE=image/png:https://rabenau.net/wp-content/uploads/2026/03/Soziale-Kuemmerin-Spaziergang-in-Gesellschaft-fuer-Senioren-3-e1776677686938.png
ORGANIZER;CN="Soziale K%C3%BCmmerin":MAILTO:kuemmerin@diakonie-dippoldiswalde.de
END:VEVENT
END:VCALENDAR